BEGIN:VCALENDAR
CALSCALE:GREGORIAN
VERSION:2.0
METHOD:PUBLISH 
X-WR-CALNAME:
BEGIN:VEVENT
DTSTART;TZID=Europe/Paris:20260423T110000
DTEND;TZID=Europe/Paris:20260423T120000
SUMMARY:Visite Faune et Flore
CATEGORIE:Expositions, Visites et Découvertes
GEO:47.44477000000000;-2.29898000000000
LOCATION:château de Ranrouët\, 44410 Herbignac\, France
URL:https://www.fest.fr/e/2430980
UID:2430980-1@fest.fr
END:VEVENT
END:VCALENDAR
