BEGIN:VCALENDAR
CALSCALE:GREGORIAN
VERSION:2.0
METHOD:PUBLISH 
X-WR-CALNAME:
BEGIN:VEVENT
DTSTART;TZID=Europe/Paris:20260628T143000
DTEND;TZID=Europe/Paris:20260628T153000
SUMMARY:Visite guidée du bourg
CATEGORIE:Expositions, Visites et Découvertes
GEO:48.17059420000000;0.52657153000000
LOCATION:Place de l'église\, 72400 La Bosse\, France
URL:https://www.fest.fr/e/2430979
UID:2430979-1@fest.fr
END:VEVENT
END:VCALENDAR
