BEGIN:VCALENDAR
CALSCALE:GREGORIAN
VERSION:2.0
METHOD:PUBLISH 
X-WR-CALNAME:
BEGIN:VEVENT
DTSTART;TZID=Europe/Paris:20260704T123456
DTEND;TZID=Europe/Paris:20260704T133456
SUMMARY:Régate de vaurien
CATEGORIE:Sports
GEO:47.06292000000000;-2.00641000000000
LOCATION:Plage du Pré Vincent
Rue du Sauvetage\, 44760 La Bernerie-en-Retz\, France
URL:https://www.fest.fr/e/2430894
UID:2430894-1@fest.fr
END:VEVENT
BEGIN:VEVENT
DTSTART;TZID=Europe/Paris:20260705T123456
DTEND;TZID=Europe/Paris:20260705T133456
SUMMARY:Régate de vaurien
CATEGORIE:Sports
GEO:47.06292000000000;-2.00641000000000
LOCATION:Plage du Pré Vincent
Rue du Sauvetage\, 44760 La Bernerie-en-Retz\, France
URL:https://www.fest.fr/e/2430894
UID:2430894-2@fest.fr
END:VEVENT
END:VCALENDAR
