BEGIN:VCALENDAR
CALSCALE:GREGORIAN
VERSION:2.0
METHOD:PUBLISH 
X-WR-CALNAME:
BEGIN:VEVENT
DTSTART;TZID=Europe/Paris:20260501T190000
DTEND;TZID=Europe/Paris:20260501T200000
SUMMARY:Concert de Soulway au Bar Le Phare
CATEGORIE:Concerts et Musique
GEO:47.10716000000000;-2.09710000000000
LOCATION:Bar le Phare
Plage de la Source\, 44210 Pornic\, France
URL:https://www.fest.fr/e/2430763
UID:2430763-1@fest.fr
END:VEVENT
END:VCALENDAR
