BEGIN:VCALENDAR
CALSCALE:GREGORIAN
VERSION:2.0
METHOD:PUBLISH 
X-WR-CALNAME:
BEGIN:VEVENT
DTSTART;TZID=Europe/Paris:20260425T090000
DTEND;TZID=Europe/Paris:20260425T100000
SUMMARY:Vide-greniers
CATEGORIE:Brocantes, Bourses et Vide-Greniers
GEO:47.13015000000000;-2.21962000000000
LOCATION:8 rue du Docteur Guépin
Espace Culturel\, 44770 Préfailles\, France
URL:https://www.fest.fr/e/2430701
UID:2430701-1@fest.fr
END:VEVENT
END:VCALENDAR
