BEGIN:VCALENDAR
CALSCALE:GREGORIAN
VERSION:2.0
METHOD:PUBLISH 
X-WR-CALNAME:
BEGIN:VEVENT
DTSTART;TZID=Europe/Paris:20260708T100000
DTEND;TZID=Europe/Paris:20260708T110000
SUMMARY:« L’huisne, quand la rivière façonne le pays »
CATEGORIE:Expositions, Visites et Découvertes
GEO:48.04627390000000;0.41921215000000
LOCATION:Espace du Pont Romain\, 72450 Montfort-le-Gesnois\, France
URL:https://www.fest.fr/e/2430637
UID:2430637-1@fest.fr
END:VEVENT
END:VCALENDAR
