BEGIN:VCALENDAR
CALSCALE:GREGORIAN
VERSION:2.0
METHOD:PUBLISH 
X-WR-CALNAME:
BEGIN:VEVENT
DTSTART;TZID=Europe/Paris:20260524T143000
DTEND;TZID=Europe/Paris:20260524T153000
SUMMARY:Visite guidée du bourg
CATEGORIE:Expositions, Visites et Découvertes
GEO:48.06953570000000;0.58624736000000
LOCATION:Place de l'église\, 72390 Le Luart\, France
URL:https://www.fest.fr/e/2430502
UID:2430502-1@fest.fr
END:VEVENT
END:VCALENDAR
