BEGIN:VCALENDAR
CALSCALE:GREGORIAN
VERSION:2.0
METHOD:PUBLISH 
X-WR-CALNAME:
BEGIN:VEVENT
DTSTART;TZID=Europe/Paris:20260421T203000
DTEND;TZID=Europe/Paris:20260421T213000
SUMMARY:Les indispensables du cinéma - Vol au-dessus d'un nid de coucou
CATEGORIE:Spectacles et Théâtre
GEO:47.29226000000000;-2.50965000000000
LOCATION:Cinéma Le Hublot
Place Dinan\, 44490 Le Croisic\, France
URL:https://www.fest.fr/e/2430447
UID:2430447-1@fest.fr
END:VEVENT
END:VCALENDAR
