BEGIN:VCALENDAR
CALSCALE:GREGORIAN
VERSION:2.0
METHOD:PUBLISH 
X-WR-CALNAME:
BEGIN:VEVENT
DTSTART;TZID=Europe/Paris:20260606T173000
DTEND;TZID=Europe/Paris:20260606T183000
SUMMARY:Discu-ciné - le cinéma coréen
CATEGORIE:Conférences, Forums et Débats
GEO:47.29397000000000;-2.51360000000000
LOCATION:5 rue de la Duchesse Anne
Médiathèque Le Traict d'encre\, 44490 Le Croisic\, France
URL:https://www.fest.fr/e/2430439
UID:2430439-1@fest.fr
END:VEVENT
END:VCALENDAR
