BEGIN:VCALENDAR
CALSCALE:GREGORIAN
VERSION:2.0
METHOD:PUBLISH 
X-WR-CALNAME:
BEGIN:VEVENT
DTSTART;TZID=Europe/Paris:20260523T123456
DTEND;TZID=Europe/Paris:20260523T133456
SUMMARY:Journée vélo ou balade lunimeuse
CATEGORIE:Randonnées et balades
GEO:47.06295000000000;-2.00073000000000
LOCATION:Place de l'Eglise Madame\, 44760 La Bernerie-en-Retz\, France
URL:https://www.fest.fr/e/2430417
UID:2430417-1@fest.fr
END:VEVENT
END:VCALENDAR
