BEGIN:VCALENDAR
CALSCALE:GREGORIAN
VERSION:2.0
METHOD:PUBLISH 
X-WR-CALNAME:
BEGIN:VEVENT
DTSTART;TZID=Europe/Paris:20260809T090000
DTEND;TZID=Europe/Paris:20260809T100000
SUMMARY:Trail / Trek - Longe-Côte 9 août 2026
CATEGORIE:Sports
GEO:47.27634000000000;-2.36520000000000
LOCATION:71 Boulevard de l’Océan\, 44500 La Baule-Escoublac\, France
URL:https://www.fest.fr/e/2430406
UID:2430406-1@fest.fr
END:VEVENT
END:VCALENDAR
