BEGIN:VCALENDAR
CALSCALE:GREGORIAN
VERSION:2.0
METHOD:PUBLISH 
X-WR-CALNAME:
BEGIN:VEVENT
DTSTART;TZID=Europe/Paris:20260411T103000
DTEND;TZID=Europe/Paris:20260411T113000
SUMMARY:Bibliothèque du vivant - Visite du vignoble de Maël Tannou
CATEGORIE:Expositions, Visites et Découvertes
GEO:47.36866000000000;-2.53518000000000
LOCATION:(face à la rue du Vieux Lérat)
Route de Mesquène\, 44420 Piriac-sur-Mer\, France
URL:https://www.fest.fr/e/2430394
UID:2430394-1@fest.fr
END:VEVENT
END:VCALENDAR
