BEGIN:VCALENDAR
CALSCALE:GREGORIAN
VERSION:2.0
METHOD:PUBLISH 
X-WR-CALNAME:
BEGIN:VEVENT
DTSTART;TZID=Europe/Paris:20260428T140000
DTEND;TZID=Europe/Paris:20260428T150000
SUMMARY:La plume à l'oreille - atelier d'écriture mensuel
CATEGORIE:Stages, Ateliers et Initiations
GEO:47.10185000000000;-1.81194000000000
LOCATION:47 rue de l'Hôtel de Ville
Maison Citoyenne\, 44680 Sainte-Pazanne\, France
URL:https://www.fest.fr/e/2430340
UID:2430340-1@fest.fr
END:VEVENT
END:VCALENDAR
