BEGIN:VCALENDAR
CALSCALE:GREGORIAN
VERSION:2.0
METHOD:PUBLISH 
X-WR-CALNAME:
BEGIN:VEVENT
DTSTART;TZID=Europe/Paris:20260505T123456
DTEND;TZID=Europe/Paris:20260505T133456
SUMMARY:Caroline Vigneaux – In Vigneaux
CATEGORIE:Spectacles et Théâtre
GEO:48.64764980000000;4.95830340000000
LOCATION:Les Fuseaux\, 52100 Saint-Dizier\, France
URL:https://www.fest.fr/e/2430322
UID:2430322-1@fest.fr
END:VEVENT
END:VCALENDAR
