BEGIN:VCALENDAR
CALSCALE:GREGORIAN
VERSION:2.0
METHOD:PUBLISH 
X-WR-CALNAME:
BEGIN:VEVENT
DTSTART;TZID=Europe/Paris:20260509T123456
DTEND;TZID=Europe/Paris:20260509T133456
SUMMARY:Fêtes du village de Droyes
CATEGORIE:Fêtes et Animations
GEO:48.51232500000000;4.69811000000000
LOCATION:Centre du Village\, 52220 Rives-Dervoises\, France
URL:https://www.fest.fr/e/2430289
UID:2430289-1@fest.fr
END:VEVENT
END:VCALENDAR
