BEGIN:VCALENDAR
CALSCALE:GREGORIAN
VERSION:2.0
METHOD:PUBLISH 
X-WR-CALNAME:
BEGIN:VEVENT
DTSTART;TZID=Europe/Paris:20260502T123456
DTEND;TZID=Europe/Paris:20260502T133456
SUMMARY:Beltaine
CATEGORIE:Fêtes et Animations
GEO:49.49641000000000;4.88876900000000
LOCATION:Ferme de la Binette\, 08390 Verrières\, France
URL:https://www.fest.fr/e/2430218
UID:2430218-1@fest.fr
END:VEVENT
END:VCALENDAR
