BEGIN:VCALENDAR
CALSCALE:GREGORIAN
VERSION:2.0
METHOD:PUBLISH 
X-WR-CALNAME:
BEGIN:VEVENT
DTSTART;TZID=Europe/Paris:20260418T123456
DTEND;TZID=Europe/Paris:20260418T133456
SUMMARY:Fête des enfants
CATEGORIE:Fêtes et Animations
GEO:50.05713000000000;4.75104300000000
LOCATION:36 rue du Risdoux
Centre Social Le Lien\, 08320 Vireux-Wallerand\, France
URL:https://www.fest.fr/e/2430206
UID:2430206-1@fest.fr
END:VEVENT
END:VCALENDAR
