BEGIN:VCALENDAR
CALSCALE:GREGORIAN
VERSION:2.0
METHOD:PUBLISH 
X-WR-CALNAME:
BEGIN:VEVENT
DTSTART;TZID=Europe/Paris:20260912T120000
DTEND;TZID=Europe/Paris:20260912T130000
SUMMARY:Rando palmée sur l'épave de la Brière
CATEGORIE:Randonnées et balades
GEO:48.66930000000000;-4.33060000000000
LOCATION:Parking de la SNSM, Rue de Keravezan\, 29890 Plounéour-Brignogan-Plages\, France
URL:https://www.fest.fr/e/2430189
UID:2430189-1@fest.fr
END:VEVENT
END:VCALENDAR
