BEGIN:VCALENDAR
CALSCALE:GREGORIAN
VERSION:2.0
METHOD:PUBLISH 
X-WR-CALNAME:
BEGIN:VEVENT
DTSTART;TZID=Europe/Paris:20260811T143000
DTEND;TZID=Europe/Paris:20260811T153000
SUMMARY:Thé dansant
CATEGORIE:Bals et Thés Dansants
GEO:43.07741220000000;0.28078680000000
LOCATION:CAPVERN LES BAINS
Place des Palmiers
à la salle Georges Brassens\, 65130 Capvern\, France
URL:https://www.fest.fr/e/2430019
UID:2430019-1@fest.fr
END:VEVENT
END:VCALENDAR
