BEGIN:VCALENDAR
CALSCALE:GREGORIAN
VERSION:2.0
METHOD:PUBLISH 
X-WR-CALNAME:
BEGIN:VEVENT
DTSTART;TZID=Europe/Paris:20260412T100000
DTEND;TZID=Europe/Paris:20260412T110000
SUMMARY:MARCHÉ DES CRÉATEURS : SAINT-SULPICE-SUR-LÈZE
CATEGORIE:Marchés, Foires et Salons
GEO:43.32822410000000;1.32275880000000
LOCATION:HOTEL BOUTAUD
Place de L Hôtel de ville\, 31410 Saint-Sulpice-sur-Lèze\, France
URL:https://www.fest.fr/e/2429983
UID:2429983-1@fest.fr
END:VEVENT
END:VCALENDAR
