BEGIN:VCALENDAR
CALSCALE:GREGORIAN
VERSION:2.0
METHOD:PUBLISH 
X-WR-CALNAME:
BEGIN:VEVENT
DTSTART;TZID=Europe/Paris:20260919T123456
DTEND;TZID=Europe/Paris:20260919T133456
SUMMARY:VISITES COMMENTÉES PAR DIDIER DUBOUT
CATEGORIE:Expositions, Visites et Découvertes
GEO:43.53424500000000;3.93432500000000
LOCATION:Parc du Levant Albert Édouard
Quai des Arènes\, 34250 Palavas-les-Flots\, France
URL:https://www.fest.fr/e/2429673
UID:2429673-1@fest.fr
END:VEVENT
END:VCALENDAR
