BEGIN:VCALENDAR
CALSCALE:GREGORIAN
VERSION:2.0
METHOD:PUBLISH 
X-WR-CALNAME:
BEGIN:VEVENT
DTSTART;TZID=Europe/Paris:20260710T123456
DTEND;TZID=Europe/Paris:20260710T133456
SUMMARY:GUINGUETTE D'ÉTÉ
CATEGORIE:Fêtes et Animations
GEO:43.93688700000000;3.77547400000000
LOCATION:34190 Moulès et Baucels
Domaine de Blancardy\, 34190 Moulès-et-Baucels\, France
URL:https://www.fest.fr/e/2429669
UID:2429669-1@fest.fr
END:VEVENT
END:VCALENDAR
