BEGIN:VCALENDAR
CALSCALE:GREGORIAN
VERSION:2.0
METHOD:PUBLISH 
X-WR-CALNAME:
BEGIN:VEVENT
DTSTART;TZID=Europe/Paris:20260819T123456
DTEND;TZID=Europe/Paris:20260819T133456
SUMMARY:CHIMÈNE BADI
CATEGORIE:Concerts et Musique
GEO:43.28867400000000;3.51300200000000
LOCATION:2 avenue des Contrebandiers
LE CAP D'AGDE
Pinède de la Clape\, 34300 Agde\, France
URL:https://www.fest.fr/e/2429602
UID:2429602-1@fest.fr
END:VEVENT
END:VCALENDAR
