BEGIN:VCALENDAR
CALSCALE:GREGORIAN
VERSION:2.0
METHOD:PUBLISH 
X-WR-CALNAME:
BEGIN:VEVENT
DTSTART;TZID=Europe/Paris:20260422T123456
DTEND;TZID=Europe/Paris:20260422T133456
SUMMARY:BIODIVERSITÉ DU PETIT BAGNAS
CATEGORIE:Randonnées et balades
GEO:43.31235200000000;3.52957700000000
LOCATION:Route de Sète\, 34300 Agde\, France
URL:https://www.fest.fr/e/2429572
UID:2429572-1@fest.fr
END:VEVENT
END:VCALENDAR
