BEGIN:VCALENDAR
CALSCALE:GREGORIAN
VERSION:2.0
METHOD:PUBLISH 
X-WR-CALNAME:
BEGIN:VEVENT
DTSTART;TZID=Europe/Paris:20260425T123456
DTEND;TZID=Europe/Paris:20260425T133456
SUMMARY:ABEILH'EN SCÈNE CHANTE BRASSENS
CATEGORIE:Concerts et Musique
GEO:43.44696960000000;3.29464090000000
LOCATION:3 Rue Jules Massenet\, 34290 Abeilhan\, France
URL:https://www.fest.fr/e/2429551
UID:2429551-1@fest.fr
END:VEVENT
END:VCALENDAR
