BEGIN:VCALENDAR
CALSCALE:GREGORIAN
VERSION:2.0
METHOD:PUBLISH 
X-WR-CALNAME:
BEGIN:VEVENT
DTSTART;TZID=Europe/Paris:20260418T123456
DTEND;TZID=Europe/Paris:20260418T133456
SUMMARY:Apéro, concerts, dégustations des Vins de l'Aveyron
CATEGORIE:Fêtes et Animations
GEO:44.35077881000000;2.57519631000000
LOCATION:8 place Emma Calvé\, 12000 Rodez\, France
URL:https://www.fest.fr/e/2429446
UID:2429446-1@fest.fr
END:VEVENT
END:VCALENDAR
