BEGIN:VCALENDAR
CALSCALE:GREGORIAN
VERSION:2.0
METHOD:PUBLISH 
X-WR-CALNAME:
BEGIN:VEVENT
DTSTART;TZID=Europe/Paris:20260424T123456
DTEND;TZID=Europe/Paris:20260424T133456
SUMMARY:Parc "Le Lutin Rose" - Soirée Blindtest
CATEGORIE:Jeux et Concours
GEO:44.35782120000000;2.02695357000000
LOCATION:Chemin de treize pierres
Salle des fêtes de treize pierres\, 12200 Villefranche-de-Rouergue\, France
URL:https://www.fest.fr/e/2429420
UID:2429420-1@fest.fr
END:VEVENT
END:VCALENDAR
