BEGIN:VCALENDAR
CALSCALE:GREGORIAN
VERSION:2.0
METHOD:PUBLISH 
X-WR-CALNAME:
BEGIN:VEVENT
DTSTART;TZID=Europe/Paris:20260417T123456
DTEND;TZID=Europe/Paris:20260417T133456
SUMMARY:Choco'livres à la médiathèque
CATEGORIE:Littérature
GEO:44.44390000000000;3.11080000000000
LOCATION:33 rue principale\, 12560 Saint-Laurent-d'Olt\, France
URL:https://www.fest.fr/e/2429401
UID:2429401-1@fest.fr
END:VEVENT
END:VCALENDAR
