BEGIN:VCALENDAR
CALSCALE:GREGORIAN
VERSION:2.0
METHOD:PUBLISH 
X-WR-CALNAME:
BEGIN:VEVENT
DTSTART;TZID=Europe/Paris:20260529T183000
DTEND;TZID=Europe/Paris:20260529T193000
SUMMARY:Blablabook
CATEGORIE:Littérature
GEO:48.83717600000000;-1.22233140000000
LOCATION:12 place des Halles\, 50800 Villedieu-les-Poêles-Rouffigny\, France
URL:https://www.fest.fr/e/2429366
UID:2429366-1@fest.fr
END:VEVENT
END:VCALENDAR
