BEGIN:VCALENDAR
CALSCALE:GREGORIAN
VERSION:2.0
METHOD:PUBLISH 
X-WR-CALNAME:
BEGIN:VEVENT
DTSTART;TZID=Europe/Paris:20260530T190000
DTEND;TZID=Europe/Paris:20260530T200000
SUMMARY:Banquet Médiéval à la Commanderie de Courval
CATEGORIE:Fêtes et Animations
GEO:48.86923930000000;-0.64181480000000
LOCATION:Commanderie Templière de Courval
Vassy\, 14350 Valdallière\, France
URL:https://www.fest.fr/e/2429321
UID:2429321-1@fest.fr
END:VEVENT
END:VCALENDAR
