BEGIN:VCALENDAR
CALSCALE:GREGORIAN
VERSION:2.0
METHOD:PUBLISH 
X-WR-CALNAME:
BEGIN:VEVENT
DTSTART;TZID=Europe/Paris:20260418T110000
DTEND;TZID=Europe/Paris:20260418T120000
SUMMARY:Visite de la maquette d'Alençon
CATEGORIE:Expositions, Visites et Découvertes
GEO:48.42996630000000;0.08957040000000
LOCATION:Maison d'Ozé\, 61000 Alençon\, France
URL:https://www.fest.fr/e/2429317
UID:2429317-1@fest.fr
END:VEVENT
BEGIN:VEVENT
DTSTART;TZID=Europe/Paris:20260418T153000
DTEND;TZID=Europe/Paris:20260418T163000
SUMMARY:Visite de la maquette d'Alençon
CATEGORIE:Expositions, Visites et Découvertes
GEO:48.42996630000000;0.08957040000000
LOCATION:Maison d'Ozé\, 61000 Alençon\, France
URL:https://www.fest.fr/e/2429317
UID:2429317-2@fest.fr
END:VEVENT
BEGIN:VEVENT
DTSTART;TZID=Europe/Paris:20260422T110000
DTEND;TZID=Europe/Paris:20260422T120000
SUMMARY:Visite de la maquette d'Alençon
CATEGORIE:Expositions, Visites et Découvertes
GEO:48.42996630000000;0.08957040000000
LOCATION:Maison d'Ozé\, 61000 Alençon\, France
URL:https://www.fest.fr/e/2429317
UID:2429317-3@fest.fr
END:VEVENT
BEGIN:VEVENT
DTSTART;TZID=Europe/Paris:20260422T153000
DTEND;TZID=Europe/Paris:20260422T163000
SUMMARY:Visite de la maquette d'Alençon
CATEGORIE:Expositions, Visites et Découvertes
GEO:48.42996630000000;0.08957040000000
LOCATION:Maison d'Ozé\, 61000 Alençon\, France
URL:https://www.fest.fr/e/2429317
UID:2429317-4@fest.fr
END:VEVENT
BEGIN:VEVENT
DTSTART;TZID=Europe/Paris:20260425T110000
DTEND;TZID=Europe/Paris:20260425T120000
SUMMARY:Visite de la maquette d'Alençon
CATEGORIE:Expositions, Visites et Découvertes
GEO:48.42996630000000;0.08957040000000
LOCATION:Maison d'Ozé\, 61000 Alençon\, France
URL:https://www.fest.fr/e/2429317
UID:2429317-5@fest.fr
END:VEVENT
BEGIN:VEVENT
DTSTART;TZID=Europe/Paris:20260425T153000
DTEND;TZID=Europe/Paris:20260425T163000
SUMMARY:Visite de la maquette d'Alençon
CATEGORIE:Expositions, Visites et Découvertes
GEO:48.42996630000000;0.08957040000000
LOCATION:Maison d'Ozé\, 61000 Alençon\, France
URL:https://www.fest.fr/e/2429317
UID:2429317-6@fest.fr
END:VEVENT
END:VCALENDAR
