BEGIN:VCALENDAR
CALSCALE:GREGORIAN
VERSION:2.0
METHOD:PUBLISH 
X-WR-CALNAME:
BEGIN:VEVENT
DTSTART;TZID=Europe/Paris:20260422T141500
DTEND;TZID=Europe/Paris:20260422T151500
SUMMARY:Rendez-vous famille : Un thé chez Madame
CATEGORIE:Spectacles et Théâtre
GEO:49.49177580000000;0.10755540000000
LOCATION:181 Rue de Paris
Maison du patrimoine\, 76600 Le Havre\, France
URL:https://www.fest.fr/e/2429188
UID:2429188-1@fest.fr
END:VEVENT
END:VCALENDAR
