BEGIN:VCALENDAR
CALSCALE:GREGORIAN
VERSION:2.0
METHOD:PUBLISH 
X-WR-CALNAME:
BEGIN:VEVENT
DTSTART;TZID=Europe/Paris:20260801T180000
DTEND;TZID=Europe/Paris:20260801T190000
SUMMARY:Balade gourmande dans les vergers de la Galotière
CATEGORIE:Randonnées et balades
GEO:48.93022000000000;0.14242000000000
LOCATION:Domaine de La Galotière
Lieu-dit La Galotière\, 61120 Crouttes\, France
URL:https://www.fest.fr/e/2429134
UID:2429134-1@fest.fr
END:VEVENT
END:VCALENDAR
