BEGIN:VCALENDAR
CALSCALE:GREGORIAN
VERSION:2.0
METHOD:PUBLISH 
X-WR-CALNAME:
BEGIN:VEVENT
DTSTART;TZID=Europe/Paris:20260522T190000
DTEND;TZID=Europe/Paris:20260522T200000
SUMMARY:Le Trio d'Écouves en concert au Tertre
CATEGORIE:Concerts et Musique
GEO:48.38808350000000;0.57930102000000
LOCATION:Le Tertre
Sérigny\, 61130 Belforêt-en-Perche\, France
URL:https://www.fest.fr/e/2429118
UID:2429118-1@fest.fr
END:VEVENT
END:VCALENDAR
