BEGIN:VCALENDAR
CALSCALE:GREGORIAN
VERSION:2.0
METHOD:PUBLISH 
X-WR-CALNAME:
BEGIN:VEVENT
DTSTART;TZID=Europe/Paris:20260419T150000
DTEND;TZID=Europe/Paris:20260419T160000
SUMMARY:Après-midi jeux
CATEGORIE:Jeux et Concours
GEO:48.81328190000000;-1.56579210000000
LOCATION:40 Place de la Gare
Médiathèque\, 50380 Saint-Pair-sur-Mer\, France
URL:https://www.fest.fr/e/2429115
UID:2429115-1@fest.fr
END:VEVENT
END:VCALENDAR
