BEGIN:VCALENDAR
CALSCALE:GREGORIAN
VERSION:2.0
METHOD:PUBLISH 
X-WR-CALNAME:
BEGIN:VEVENT
DTSTART;TZID=Europe/Paris:20260424T160000
DTEND;TZID=Europe/Paris:20260424T170000
SUMMARY:Visite guidée : Église Saint-Joseph
CATEGORIE:Expositions, Visites et Découvertes
GEO:49.49098980000000;0.10082260000000
LOCATION:130 Boulevard François 1er
Église Saint-Joseph\, 76600 Le Havre\, France
URL:https://www.fest.fr/e/2429110
UID:2429110-1@fest.fr
END:VEVENT
BEGIN:VEVENT
DTSTART;TZID=Europe/Paris:20260424T170000
DTEND;TZID=Europe/Paris:20260424T180000
SUMMARY:Visite guidée : Église Saint-Joseph
CATEGORIE:Expositions, Visites et Découvertes
GEO:49.49098980000000;0.10082260000000
LOCATION:130 Boulevard François 1er
Église Saint-Joseph\, 76600 Le Havre\, France
URL:https://www.fest.fr/e/2429110
UID:2429110-2@fest.fr
END:VEVENT
BEGIN:VEVENT
DTSTART;TZID=Europe/Paris:20260703T170000
DTEND;TZID=Europe/Paris:20260703T180000
SUMMARY:Visite guidée : Église Saint-Joseph
CATEGORIE:Expositions, Visites et Découvertes
GEO:49.49098980000000;0.10082260000000
LOCATION:130 Boulevard François 1er
Église Saint-Joseph\, 76600 Le Havre\, France
URL:https://www.fest.fr/e/2429110
UID:2429110-3@fest.fr
END:VEVENT
BEGIN:VEVENT
DTSTART;TZID=Europe/Paris:20260703T180000
DTEND;TZID=Europe/Paris:20260703T190000
SUMMARY:Visite guidée : Église Saint-Joseph
CATEGORIE:Expositions, Visites et Découvertes
GEO:49.49098980000000;0.10082260000000
LOCATION:130 Boulevard François 1er
Église Saint-Joseph\, 76600 Le Havre\, France
URL:https://www.fest.fr/e/2429110
UID:2429110-4@fest.fr
END:VEVENT
BEGIN:VEVENT
DTSTART;TZID=Europe/Paris:20260717T170000
DTEND;TZID=Europe/Paris:20260717T180000
SUMMARY:Visite guidée : Église Saint-Joseph
CATEGORIE:Expositions, Visites et Découvertes
GEO:49.49098980000000;0.10082260000000
LOCATION:130 Boulevard François 1er
Église Saint-Joseph\, 76600 Le Havre\, France
URL:https://www.fest.fr/e/2429110
UID:2429110-5@fest.fr
END:VEVENT
BEGIN:VEVENT
DTSTART;TZID=Europe/Paris:20260717T180000
DTEND;TZID=Europe/Paris:20260717T190000
SUMMARY:Visite guidée : Église Saint-Joseph
CATEGORIE:Expositions, Visites et Découvertes
GEO:49.49098980000000;0.10082260000000
LOCATION:130 Boulevard François 1er
Église Saint-Joseph\, 76600 Le Havre\, France
URL:https://www.fest.fr/e/2429110
UID:2429110-6@fest.fr
END:VEVENT
BEGIN:VEVENT
DTSTART;TZID=Europe/Paris:20260731T170000
DTEND;TZID=Europe/Paris:20260731T180000
SUMMARY:Visite guidée : Église Saint-Joseph
CATEGORIE:Expositions, Visites et Découvertes
GEO:49.49098980000000;0.10082260000000
LOCATION:130 Boulevard François 1er
Église Saint-Joseph\, 76600 Le Havre\, France
URL:https://www.fest.fr/e/2429110
UID:2429110-7@fest.fr
END:VEVENT
BEGIN:VEVENT
DTSTART;TZID=Europe/Paris:20260731T180000
DTEND;TZID=Europe/Paris:20260731T190000
SUMMARY:Visite guidée : Église Saint-Joseph
CATEGORIE:Expositions, Visites et Découvertes
GEO:49.49098980000000;0.10082260000000
LOCATION:130 Boulevard François 1er
Église Saint-Joseph\, 76600 Le Havre\, France
URL:https://www.fest.fr/e/2429110
UID:2429110-8@fest.fr
END:VEVENT
BEGIN:VEVENT
DTSTART;TZID=Europe/Paris:20260814T170000
DTEND;TZID=Europe/Paris:20260814T180000
SUMMARY:Visite guidée : Église Saint-Joseph
CATEGORIE:Expositions, Visites et Découvertes
GEO:49.49098980000000;0.10082260000000
LOCATION:130 Boulevard François 1er
Église Saint-Joseph\, 76600 Le Havre\, France
URL:https://www.fest.fr/e/2429110
UID:2429110-9@fest.fr
END:VEVENT
BEGIN:VEVENT
DTSTART;TZID=Europe/Paris:20260814T180000
DTEND;TZID=Europe/Paris:20260814T190000
SUMMARY:Visite guidée : Église Saint-Joseph
CATEGORIE:Expositions, Visites et Découvertes
GEO:49.49098980000000;0.10082260000000
LOCATION:130 Boulevard François 1er
Église Saint-Joseph\, 76600 Le Havre\, France
URL:https://www.fest.fr/e/2429110
UID:2429110-10@fest.fr
END:VEVENT
BEGIN:VEVENT
DTSTART;TZID=Europe/Paris:20260821T170000
DTEND;TZID=Europe/Paris:20260821T180000
SUMMARY:Visite guidée : Église Saint-Joseph
CATEGORIE:Expositions, Visites et Découvertes
GEO:49.49098980000000;0.10082260000000
LOCATION:130 Boulevard François 1er
Église Saint-Joseph\, 76600 Le Havre\, France
URL:https://www.fest.fr/e/2429110
UID:2429110-11@fest.fr
END:VEVENT
BEGIN:VEVENT
DTSTART;TZID=Europe/Paris:20260821T180000
DTEND;TZID=Europe/Paris:20260821T190000
SUMMARY:Visite guidée : Église Saint-Joseph
CATEGORIE:Expositions, Visites et Découvertes
GEO:49.49098980000000;0.10082260000000
LOCATION:130 Boulevard François 1er
Église Saint-Joseph\, 76600 Le Havre\, France
URL:https://www.fest.fr/e/2429110
UID:2429110-12@fest.fr
END:VEVENT
BEGIN:VEVENT
DTSTART;TZID=Europe/Paris:20260828T170000
DTEND;TZID=Europe/Paris:20260828T180000
SUMMARY:Visite guidée : Église Saint-Joseph
CATEGORIE:Expositions, Visites et Découvertes
GEO:49.49098980000000;0.10082260000000
LOCATION:130 Boulevard François 1er
Église Saint-Joseph\, 76600 Le Havre\, France
URL:https://www.fest.fr/e/2429110
UID:2429110-13@fest.fr
END:VEVENT
BEGIN:VEVENT
DTSTART;TZID=Europe/Paris:20260828T180000
DTEND;TZID=Europe/Paris:20260828T190000
SUMMARY:Visite guidée : Église Saint-Joseph
CATEGORIE:Expositions, Visites et Découvertes
GEO:49.49098980000000;0.10082260000000
LOCATION:130 Boulevard François 1er
Église Saint-Joseph\, 76600 Le Havre\, France
URL:https://www.fest.fr/e/2429110
UID:2429110-14@fest.fr
END:VEVENT
END:VCALENDAR
