BEGIN:VCALENDAR
CALSCALE:GREGORIAN
VERSION:2.0
METHOD:PUBLISH 
X-WR-CALNAME:
BEGIN:VEVENT
DTSTART;TZID=Europe/Paris:20260607T160000
DTEND;TZID=Europe/Paris:20260607T170000
SUMMARY:Spectacle équestre : Genesis, cheval de spectacle - L'incroyable aventure
CATEGORIE:Cirques
GEO:48.73862550000000;0.14696560000000
LOCATION:Haras national du Pin
Manège d'Aure\, 61310 Le Pin-au-Haras\, France
URL:https://www.fest.fr/e/2429101
UID:2429101-1@fest.fr
END:VEVENT
END:VCALENDAR
