BEGIN:VCALENDAR
CALSCALE:GREGORIAN
VERSION:2.0
METHOD:PUBLISH 
X-WR-CALNAME:
BEGIN:VEVENT
DTSTART;TZID=Europe/Paris:20260924T204500
DTEND;TZID=Europe/Paris:20260924T214500
SUMMARY:Artus - le Show XXL au Cinéma
CATEGORIE:Spectacles et Théâtre
LOCATION:Cinéma Olympia\, 2 Rue Louis Pergaud\, 25300 Pontarlier\, France
URL:https://www.fest.fr/e/2429070
UID:2429070-1@fest.fr
END:VEVENT
END:VCALENDAR
