BEGIN:VCALENDAR
CALSCALE:GREGORIAN
VERSION:2.0
METHOD:PUBLISH 
X-WR-CALNAME:
BEGIN:VEVENT
DTSTART;TZID=Europe/Paris:20260410T140000
DTEND;TZID=Europe/Paris:20260410T150000
SUMMARY:Ainsi va la chanson
CATEGORIE:Conférences, Forums et Débats
GEO:49.38691600000000;-1.52995800000000
LOCATION:3bis rue du 8 Mai
Médiathèque Louise Read\, 50390 Saint-Sauveur-le-Vicomte\, France
URL:https://www.fest.fr/e/2428973
UID:2428973-1@fest.fr
END:VEVENT
END:VCALENDAR
