BEGIN:VCALENDAR
CALSCALE:GREGORIAN
VERSION:2.0
METHOD:PUBLISH 
X-WR-CALNAME:
BEGIN:VEVENT
DTSTART;TZID=Europe/Paris:20260512T150000
DTEND;TZID=Europe/Paris:20260512T160000
SUMMARY:Ateliers créatifs : peinture sur céramique
CATEGORIE:Stages, Ateliers et Initiations
GEO:49.06227000000000;-1.42832000000000
LOCATION:Rue de la Guérie\, 50200 Coutances\, France
URL:https://www.fest.fr/e/2428922
UID:2428922-1@fest.fr
END:VEVENT
BEGIN:VEVENT
DTSTART;TZID=Europe/Paris:20260512T173000
DTEND;TZID=Europe/Paris:20260512T183000
SUMMARY:Ateliers créatifs : peinture sur céramique
CATEGORIE:Stages, Ateliers et Initiations
GEO:49.06227000000000;-1.42832000000000
LOCATION:Rue de la Guérie\, 50200 Coutances\, France
URL:https://www.fest.fr/e/2428922
UID:2428922-2@fest.fr
END:VEVENT
END:VCALENDAR
