BEGIN:VCALENDAR
CALSCALE:GREGORIAN
VERSION:2.0
METHOD:PUBLISH 
X-WR-CALNAME:
BEGIN:VEVENT
DTSTART;TZID=Europe/Paris:20260523T100000
DTEND;TZID=Europe/Paris:20260523T110000
SUMMARY:La Tournée des plages
CATEGORIE:Sports
GEO:49.29636870000000;-0.10559350000000
LOCATION:Cap Cabourg
Poste de secours n°5\, 14390 Cabourg\, France
URL:https://www.fest.fr/e/2428800
UID:2428800-1@fest.fr
END:VEVENT
END:VCALENDAR
