BEGIN:VCALENDAR
CALSCALE:GREGORIAN
VERSION:2.0
METHOD:PUBLISH 
X-WR-CALNAME:
BEGIN:VEVENT
DTSTART;TZID=Europe/Paris:20260420T153000
DTEND;TZID=Europe/Paris:20260420T163000
SUMMARY:[Activité enfant] Chasse aux poissons
CATEGORIE:Stages, Ateliers et Initiations
GEO:49.93059020000000;1.08367950000000
LOCATION:/ 37 rue de l'Asile Thomas
ESTRAN CITE DE LA MER\, 76370 Dieppe\, France
URL:https://www.fest.fr/e/2428696
UID:2428696-1@fest.fr
END:VEVENT
BEGIN:VEVENT
DTSTART;TZID=Europe/Paris:20260421T153000
DTEND;TZID=Europe/Paris:20260421T163000
SUMMARY:[Activité enfant] Chasse aux poissons
CATEGORIE:Stages, Ateliers et Initiations
GEO:49.93059020000000;1.08367950000000
LOCATION:/ 37 rue de l'Asile Thomas
ESTRAN CITE DE LA MER\, 76370 Dieppe\, France
URL:https://www.fest.fr/e/2428696
UID:2428696-2@fest.fr
END:VEVENT
BEGIN:VEVENT
DTSTART;TZID=Europe/Paris:20260422T153000
DTEND;TZID=Europe/Paris:20260422T163000
SUMMARY:[Activité enfant] Chasse aux poissons
CATEGORIE:Stages, Ateliers et Initiations
GEO:49.93059020000000;1.08367950000000
LOCATION:/ 37 rue de l'Asile Thomas
ESTRAN CITE DE LA MER\, 76370 Dieppe\, France
URL:https://www.fest.fr/e/2428696
UID:2428696-3@fest.fr
END:VEVENT
BEGIN:VEVENT
DTSTART;TZID=Europe/Paris:20260423T153000
DTEND;TZID=Europe/Paris:20260423T163000
SUMMARY:[Activité enfant] Chasse aux poissons
CATEGORIE:Stages, Ateliers et Initiations
GEO:49.93059020000000;1.08367950000000
LOCATION:/ 37 rue de l'Asile Thomas
ESTRAN CITE DE LA MER\, 76370 Dieppe\, France
URL:https://www.fest.fr/e/2428696
UID:2428696-4@fest.fr
END:VEVENT
END:VCALENDAR
