BEGIN:VCALENDAR
CALSCALE:GREGORIAN
VERSION:2.0
METHOD:PUBLISH 
X-WR-CALNAME:
BEGIN:VEVENT
DTSTART;TZID=Europe/Paris:20260514T110000
DTEND;TZID=Europe/Paris:20260514T120000
SUMMARY:[Atelier] Fabrique ta remorque à vélo
CATEGORIE:Stages, Ateliers et Initiations
GEO:49.92320620000000;1.07920280000000
LOCATION:Parc François Mitterrand\, 76200 Dieppe\, France
URL:https://www.fest.fr/e/2428595
UID:2428595-1@fest.fr
END:VEVENT
END:VCALENDAR
