BEGIN:VCALENDAR
CALSCALE:GREGORIAN
VERSION:2.0
METHOD:PUBLISH 
X-WR-CALNAME:
BEGIN:VEVENT
DTSTART;TZID=Europe/Paris:20260530T200000
DTEND;TZID=Europe/Paris:20260530T210000
SUMMARY:Concert de trompes de chasse (Pierres en Lumières)
CATEGORIE:Concerts et Musique
GEO:49.11871800000000;0.84640650000000
LOCATION:Eglise Saint Martin
rue de la Forge\, 27170 Écardenville-la-Campagne\, France
URL:https://www.fest.fr/e/2428585
UID:2428585-1@fest.fr
END:VEVENT
END:VCALENDAR
