BEGIN:VCALENDAR
CALSCALE:GREGORIAN
VERSION:2.0
METHOD:PUBLISH 
X-WR-CALNAME:
BEGIN:VEVENT
DTSTART;TZID=Europe/Paris:20260411T123456
DTEND;TZID=Europe/Paris:20260411T133456
SUMMARY:Salon des vins
CATEGORIE:Marchés, Foires et Salons
GEO:48.59773800000000;-1.51121610000000
LOCATION:9 rue d'Asteriac
Salle Alain Cuny\, 50170 Beauvoir\, France
URL:https://www.fest.fr/e/2428533
UID:2428533-1@fest.fr
END:VEVENT
END:VCALENDAR
