BEGIN:VCALENDAR
CALSCALE:GREGORIAN
VERSION:2.0
METHOD:PUBLISH 
X-WR-CALNAME:
BEGIN:VEVENT
DTSTART;TZID=Europe/Paris:20260902T123456
DTEND;TZID=Europe/Paris:20260902T133456
SUMMARY:Musée numérique : "Du sauvage au domestique" - La Micro-Folie
CATEGORIE:Expositions, Visites et Découvertes
GEO:48.74401680000000;-0.01846060000000
LOCATION:4 rue Charles Léandres
Espace Jean Moulin\, 61200 Argentan\, France
URL:https://www.fest.fr/e/2428531
UID:2428531-1@fest.fr
END:VEVENT
END:VCALENDAR
