BEGIN:VCALENDAR
CALSCALE:GREGORIAN
VERSION:2.0
METHOD:PUBLISH 
X-WR-CALNAME:
BEGIN:VEVENT
DTSTART;TZID=Europe/Paris:20260613T140000
DTEND;TZID=Europe/Paris:20260613T150000
SUMMARY:Atelier : Photographie
CATEGORIE:Stages, Ateliers et Initiations
GEO:49.06264660000000;1.42863870000000
LOCATION:1 Avenue du 13ème Dragon
Maison des Métiers d'Art
McArthurGlen Paris-Giverny\, 27120 Douains\, France
URL:https://www.fest.fr/e/2428523
UID:2428523-1@fest.fr
END:VEVENT
END:VCALENDAR
