BEGIN:VCALENDAR
CALSCALE:GREGORIAN
VERSION:2.0
METHOD:PUBLISH 
X-WR-CALNAME:
BEGIN:VEVENT
DTSTART;TZID=Europe/Paris:20260418T093000
DTEND;TZID=Europe/Paris:20260418T103000
SUMMARY:Stage de comédie musicale : Mamma Mia
CATEGORIE:Stages, Ateliers et Initiations
GEO:48.83796850000000;-1.60249560000000
LOCATION:51 Rue Notre Dame
Théâtre de la Haute Ville\, 50400 Granville\, France
URL:https://www.fest.fr/e/2428359
UID:2428359-1@fest.fr
END:VEVENT
BEGIN:VEVENT
DTSTART;TZID=Europe/Paris:20260418T140000
DTEND;TZID=Europe/Paris:20260418T150000
SUMMARY:Stage de comédie musicale : Mamma Mia
CATEGORIE:Stages, Ateliers et Initiations
GEO:48.83796850000000;-1.60249560000000
LOCATION:51 Rue Notre Dame
Théâtre de la Haute Ville\, 50400 Granville\, France
URL:https://www.fest.fr/e/2428359
UID:2428359-2@fest.fr
END:VEVENT
END:VCALENDAR
