BEGIN:VCALENDAR
CALSCALE:GREGORIAN
VERSION:2.0
METHOD:PUBLISH 
X-WR-CALNAME:
BEGIN:VEVENT
DTSTART;TZID=Europe/Paris:20260506T150000
DTEND;TZID=Europe/Paris:20260506T160000
SUMMARY:Goûtez l'art - Motif toi !
CATEGORIE:Stages, Ateliers et Initiations
GEO:49.18156110000000;-0.37443860000000
LOCATION:Impasse Duc Rollon
L'Artothèque, espaces d'art contemporain\, 14000 Caen\, France
URL:https://www.fest.fr/e/2428285
UID:2428285-1@fest.fr
END:VEVENT
END:VCALENDAR
