BEGIN:VCALENDAR
CALSCALE:GREGORIAN
VERSION:2.0
METHOD:PUBLISH 
X-WR-CALNAME:
BEGIN:VEVENT
DTSTART;TZID=Europe/Paris:20260415T140000
DTEND;TZID=Europe/Paris:20260415T150000
SUMMARY:Stage découverte céramique destiné aux enfants
CATEGORIE:Stages, Ateliers et Initiations
GEO:48.68787000000000;-1.35808000000000
LOCATION:14 place du marché
Atelier céramique\, 50300 Avranches\, France
URL:https://www.fest.fr/e/2428279
UID:2428279-1@fest.fr
END:VEVENT
END:VCALENDAR
